BEGIN:VCALENDAR
VERSION:2.0
PRODID:-//kirjastotfi/procal//NONSGML v1.0//EN
BEGIN:VEVENT
DTSTART:20260401T120000
DTEND:20260417T150000
SUMMARY:Osa-aikainen kirjastovirkailija
DESCRIPTION:<p>Virtain kaupungin hyvinvointitoimi hakee osa-aikaista (60 %) kirjastovirkailijaa määräaikaiseen työsuhteeseen Virtain kaupunginkirjastoon ajalle 4.5.2026–31.3.2027. Kesälomakaudella 1.6.–31.8.2026 työaika on kokoaikainen.</p><p>Virtain kaupungin kirjastotoimeen kuuluu pääkirjasto sekä yhteinen kirjastoauto Ruoveden kunnan kanssa. Omatoimikirjasto on otettu käyttöön lokakuussa 2022. Virtain kirjasto kuuluu PIKI-kirjastokimppaan.</p><p>Kirjastovirkailijan pääasiallisina työtehtävinä on asiakaspalvelu ja muut kirjaston päivittäistehtävät. Työ sisältää sekä aamu- että iltavuoroja.</p><p>Kirjastovirkailijan kelpoisuusvaatimuksena on kirjastoalan ammatillinen perustutkinto tai soveltuva korkeakoulututkinto, johon sisältyvät tai jonka lisäksi on suoritettu 60 opintopisteen laajuiset kirjasto- ja informaatioalan opinnot. Tehtävän menestyksekäs hoitaminen edellyttää asiakaspalvelutaitoja ja hyviä tietoteknisiä valmiuksia. Kirjastoalan työkokemus luetaan eduksi.</p><p>Meillä on tarjota sinulle joustava työnantaja työsuhde-etuineen sekä keskusteleva ja aktiivinen työyhteisö ja positiivinen työilmapiiri. Tehtävässä ja palkkauksessa noudatetaan Kunnallista yleistä virka- ja työehtosopimusta.&nbsp;</p><p>Lisätietoja tehtävästä antaa kirjastotoimenjohtaja Heidi Leo, puh. 044 715 1292, heidi.leo@virrat.fi. Hakemukset pyydämme toimittamaan 17.4.2026 klo 15 mennessä <a href="https://www.kuntarekry.fi/fi/tyopaikat/kirjastovirkailija-716813/">Kuntarekryn</a> sähköisen kanavan kautta. Alkuperäiset tutkinto- ja työtodistukset on esitettävä mahdollisen haastattelun yhteydessä. Työn aloitusajankohta on tarvittaessa sovittavissa erikseen.</p>
LOCATION:Virtain kaupunginkirjasto
END:VEVENT
END:VCALENDAR