BEGIN:VCALENDAR
VERSION:2.0
PRODID:-//kirjastotfi/procal//NONSGML v1.0//EN
BEGIN:VEVENT
DTSTART:20260331T120000
DTEND:20260414T160000
SUMMARY:Kirjastovirkailija Mosaiikin ja Martinlaakson kirjastoihin
DESCRIPTION:<p>Tule kirjastovirkailijaksi Länsi-Vantaalle! Haemme kirjastovirkailijaa Mosaiikin ja Martinlaakson kirjastoihin 4.5.2026 alkaen. &nbsp;</p><p>Kaupunkikulttuurikeskus Mosaiikki sijaitsee kauppakeskus Kiviksen toisessa kerroksessa hyvien yhteyksien äärellä. Mosaiikin monitoimitiloissa tapahtumia ja toimintaa järjestävät lisäksemme nuorisopalvelut, kulttuuripalvelut, erilaiset järjestötoimijat ja muut kumppanuudet. Tavoitteemme ja toiminta-ajatuksemme on toimia yhteistyössä muiden kanssa arjessamme. Mosaiikissa on Värkkäämö, joka sisältää 3D-tulostimia, ompelukoneita, saumureita yms. &nbsp;<br>&nbsp;<br>Martinlaakson kirjasto on viihtyisä lähikirjasto aivan juna-aseman vieressä. Asiakkaistamme merkittävä osa on senioreita, opiskelijoita ja lapsiperheitä, joille kirjasto on tärkeä kohtaamispaikka. Meillä pääset kokemaan lähikirjaston monipuolista arkea ja kehittämään itseäsi monenlaisissa työtehtävissä asiantuntevassa työyhteisössä.&nbsp;</p><p>Mosaiikin, Martinlaakson, Myyrmäen, Pointin (lokakuusta lähtien Jumbon) ja Pähkinärinteen kirjastot muodostavat Vantaan kirjastopalveluiden läntisen tiimin.&nbsp;</p><p>Kirjastovirkailijana työskentelet pääsääntöisesti Mosaiikin ja Martinlaakson kirjastoissa. Tarvittaessa teet työtä myös muissa Vantaan kaupunginkirjaston yksiköissä. Työ sisältää ilta- ja viikonloppuvuoroja. &nbsp;</p><p>Tehtäväsi painottuvat asiakkaan kohtaamiseen, kirjastojen tapahtumatuotantoon ja kokoelman hoitoon.&nbsp;</p><p>Kohtaat luontevasti kaikenlaiset asiakkaat, erityisesti lapset ja nuoret. &nbsp;</p><p>Toivomme, että sinulla on valmiuksia ottaa haltuun Värkkäämön laitteet.&nbsp;</p><p>Vantaan kaupunginkirjaston toiminta-ajatus on kaikkien lukutaitojen edistäminen. Päämääränämme on tukea monilukutaitoja, osallisuutta, kielten ja kulttuurien omaksumista sekä olla alusta elämyksille. Lue lisää Kirjasto 2030 -ohjelmasta <a href="https://kirjasto.one/kirjasto2030/"><strong>https://kirjasto.one/kirjasto2030/ &nbsp;</strong></a>&nbsp;</p><p><strong>Vantaalla viihtyy varmasti</strong></p><p>Vantaan kaupungilla työskentelee noin 8300 eri alojen osaajaa, jotka rakentavat yhdessä toimivaa kaupunkia ja sujuvaa arkea Vantaalla asuville, työskenteleville ja vieraileville.<br><br>Meillä pääset tekemään monipuolisia ja mielenkiintoisia töitä sekä kehittämään työtäsi ja osaamistasi. Vantaalla on avoin ja rento, yhdenvertaisuuteen perustuva ilmapiiri sekä esihenkilön ja työyhteisön tuki työssäsi. Olemme vastuullinen ja turvallinen työnantaja. Vantaa on hyvin johdettu kaupunki ja edelläkävijä kuntapalvelujen kehittämisessä.<br>&nbsp;<br>Vantaalla on hyvät kulkuyhteydet niin kunnan sisällä kuin lähikuntiin. Työnantaja tukee hyvinvointiasi esimerkiksi liikunta- ja kulttuuriedulla, työmatkaedulla ja lounasedulla. Tuemme henkilöstön hyvinvointia mahdollistamalla ja tukemalla liikunnallista elämäntapaa. Kaupungin työntekijät voivat hyödyntää mm. uimahallien, kuntosalien ja ryhmäliikunnan sekä hierontayritysten etuhintaisia palveluja. Lisäksi tarjolla on usein myös alennushintaisia lippuja kulttuuritapahtumiin.<br><br>Jos jäit vielä pohtimaan, mitä Vantaalla on sinulle tarjottavaa, <a href="https://www.vantaa.fi/fi/kaupunki-ja-paatoksenteko/toissa-vantaalla/johtaminen-tyohyvinvointi-ja-henkilostoedut"><strong>käy verkkosivuillamme lukemassa lisää syitä valita Vantaa.</strong></a><br><br>Toivottavasti saimme mielenkiintosi heräämään. Jätä hakemuksesi <a href="https://vantaa.rekrytointi.com/paikat/index.php?jid=18212&amp;key=&amp;o=A_RJ&amp;rspvt=ik8viv7tcug4ws4wo4sococc4o4k4o4">rekrytointisivumme kautta</a> jo tänään ja #vantaudu työkaveriksemme! Tervetuloa meille töihin!</p><h4>Työsuhteen tietoja</h4><p><strong>Kelpoisuusvaatimus:&nbsp;</strong>Tehtävään soveltuva ammatillinen tutkinto<br><strong>Kelpoisuusvaatimuksen lisäksi edellytämme:&nbsp;</strong>hyviä vuorovaikutus- ja työyhteisötaitoja sekä hyvää suomen kielen taitoa.<br><strong>Luemme eduksi:&nbsp;</strong>kirjastoalan koulutuksen ja/tai työkokemuksen sekä kokemuksen asiakaskaspalvelutyöstä.<br>Palvelussuhteen ehdot määräytyvät Kunnallisen yleisen virka- ja työehtosopimuksen (KVTES) mukaisesti</p><p><strong>Palkkaus:&nbsp;</strong>2392,33 euroa/kk, lisäksi mahdollinen aikaisempaan työkokemukseen perustuva lisä.<br><strong>Koeaika:</strong> Tehtävässä noudatetaan 6 kuukauden koeaikaa<br><strong>Palvelusuhteen muoto:&nbsp;</strong>Työsuhde<br><strong>Työaika:&nbsp;</strong>36 h 15 min/viikko&nbsp;</p>
LOCATION:
END:VEVENT
END:VCALENDAR