BEGIN:VCALENDAR
VERSION:2.0
PRODID:-//kirjastotfi/procal//NONSGML v1.0//EN
BEGIN:VEVENT
DTSTART:20260223T120000
DTEND:20260330T150000
SUMMARY:Kirjastopalvelujohtaja
DESCRIPTION:<p>Haemme rakentavasti toimivaa, osaavaa ja kokenutta, näkemyksellistä vastuunkantajaa johtamaan 64 työntekijän, 9 toimipaikan ja kirjastoauton muodostamaa palvelukokonaisuutta.</p><p>Tehtävässä vastaat kirjastopalvelut-toimintayksikön kehittämisestä, taloudesta ja toiminnasta edistäen uudistuvia ja laadukkaita kirjastopalveluita. Pääkirjastopalveluiden tulevaisuuden toteutuslinjausten ja tilaratkaisujen valmistelu on parhaillaan käynnissä ja pääset mukaan tähän kiinnostavaan ja innostavaan suunnittelutyöhön.</p><p>Kelpoisuusehtona virkaan on soveltuva ylempi korkeakoulututkinto, johon sisältyvät tai, jonka lisäksi on suoritettu vähintään 60 opintopisteen tai 35 opintoviikon laajuiset korkeakoulutasoiset kirjasto- ja informaatioalan opinnot, johtamistaito sekä hyvä perehtyneisyys kirjastojen tehtäviin ja toimintaan.</p><p>Tehtävän onnistunut hoitaminen edellyttää kokemusta ja osaamista muutoksen johtamisesta selkeästi ja inhimillisesti yhdessä henkilöstön ja sidosryhmien kanssa, henkilöstön osaamisen ja työhyvinvoinnin kehittämisestä sekä palvelutoiminnan pitkäjänteisestä vaikuttavasta kehittämisestä ja uudistamisesta.</p><p>Arvostamme valmiutta ja kykyä vastuunkantoon, ratkaisukeskeistä työotetta, organisointikykyä ja kokonaisuuksien hallinnan taitoja, verkostojen johtamis- ja kehittämistaitoja sekä kokemusta alueellisesta ja valtakunnallisesta yhteistyöstä. Hyvä ymmärrys julkishallinnon toimintatavoista sekä sisäisestä ja ulkoisesta viestinnästä on eduksi.</p><p>Viranhoito alkaa 1.8.2026 tai sopimuksen mukaan.</p><p>Palvelusuhteen ehdot määräytyvät Kunnallisen yleisen virka- ja työehtosopimuksen mukaisesti.</p><p>Tehtäväkohtainen tasopalkka on 5 102,83 € / kk.</p><p>Tarjoamme mahdollisuuden päästä kehittämään sivistystoimialaa, kulttuuriyksikköä ja kirjastopalveluja. Lisäksi tarjoamme kattavat työterveyshuollon palvelut, liikunta-, kulttuuri-, hieronta- ja terveysedun, joustavan etätyöskentelymahdollisuuden sekä monipuoliset mahdollisuudet kehittää ammatillista osaamistasi.</p><p>Työn alkamispäivä: 1.8.2026 tai sopimuksen mukaan.</p><p>Virkaan valitun on toimitettava hyväksyttävä lääkärintodistus terveydentilastaan 30 päivän kuluessa valintapäätöksen tiedoksi saamisesta. Tehtävässä noudatetaan kuuden (6) kuukauden koeaikaa.</p><p>Tutustu tarkemmin <a href="https://kirjasto.pori.fi/ ">Porin kaupunginkirjastoon</a> ja pääkirjaston <a href="https://www.pori.fi/kaupunki-ja-hallinto/paatoksenteko/porin-paakirjastopalveluiden-ja-sisaliikuntatilojen-tulevaisuuden-tilaratkaisut/">tulevien tilaratkaisujen valmisteluun</a>:<br><br>&nbsp;</p><p>Täytä hakemus Hae työpaikkaa -kohdasta. Lisää tutkintotodistuksesi sähköisen hakemuksen liitteeksi. Työtodistuksia tai itse tehtyä ansioluetteloa ei tarvitse liittää. Vaihtoehtoisesti voit esittää alkuperäiset tutkintotodistuksesi mahdollisen haastattelun yhteydessä.</p><p>Lisätietoja tehtävästä: <span>Kulttuuriyksikön päällikkö Jyri Träskelin p. 044-701 1251 ja jyri.traskelin@pori.fi</span></p><p>Jos mahdollisuutta sähköisen hakemuksen tekemiseen ei ole, voit lähettää paperisen hakemuksen ja ansioluettelon osoitteella: Porin kaupunki, HR-yksikkö, PL 47 (Valtakatu 15), 28100 Pori.</p><p>Sähköiseen hakuun liittyviä ohjeita: p. 044 701 9989 ja p. 044 701 4680 tai <a href="mailto:rekry@pori.fi">rekry@pori.fi</a><br>&nbsp;</p><p>Hakuaika: 23.2. - 30.3. klo 15</p><p><strong>Linkki</strong></p><p><a href="http://www.pori.fi">Porin kaupungin verkkosivut</a></p>
LOCATION:Pori
END:VEVENT
END:VCALENDAR