BEGIN:VCALENDAR
VERSION:2.0
PRODID:-//kirjastotfi/procal//NONSGML v1.0//EN
BEGIN:VEVENT
DTSTART:20260423T070000
DTEND:20260508T180000
SUMMARY:Lue ja Liiku-kampanja
DESCRIPTION:<p>Toteutamme suositun Lue ja Liiku -kampanjan <strong>keväällä 2026</strong> jo kuudetta kertaa putkeen. Kampanjassa yhdistetään lukemisen ja liikkumisen riemu jalkapallomaajoukkueiden pelaajien ja maskottien, Bubin ja Helmin johdolla. Ilmoittautuminen aukeaa pian – <strong>pysy kuulolla!</strong></p><h4><strong>Kampanja 2025 ⚽</strong></h4><p>Vuoden 2025 kampanjassa oli mukana 1 240 ryhmää ja yli 26 000 lasta. Suurkiitos kaikille osallistuneille! &nbsp;💙</p><p>&nbsp;</p><h4><strong>Mikä on kampanjan tavoite?&nbsp;🔎</strong></h4><p>Luokalla on kampanjassa yhteinen päämäärä.&nbsp; Luku- ja liikuntasuorituksilla kerätään sulkia luokkapöllölle ja autetaan yhdessä Huuhkajat ja Helmarit lentoon. Kampanjaan kuuluu laaja materiaalipankki ja useita sisältövideoita. Sisältövideoilla Helmareiden ja Huuhkajien pelaajat kertovat omista luku- ja liikuntakokemuksistaan ja kannustavat lapsia lukemaan ja liikkumaan kampanjan parissa.<br>&nbsp;</p><h4><strong>Kenelle kampanja on tarkoitettu?&nbsp;🏫</strong></h4><p>Kampanja on kohdistettu kaikille Suomen alakoulujen 1.–6. luokille, päiväkodeille ja eskareille. Ryhmien ja luokkien on mahdollista tehdä yhteistyötä paikallisen jalkapalloseuran kanssa. Otamme mukaan kaikki ilmoittautuneet ryhmät.</p>
LOCATION:
END:VEVENT
END:VCALENDAR