BEGIN:VCALENDAR
VERSION:2.0
PRODID:-//kirjastotfi/procal//NONSGML v1.0//EN
BEGIN:VEVENT
DTSTART:20260603T090000
DTEND:20260605T153000
SUMMARY:Kirjastopäivien ohjelma on julkaistu!
DESCRIPTION:<p>Kirjastopäivien monipuolinen ja ajassa kiinni oleva ohjelma on nyt julkaistu ja voit tutustua siihen&nbsp;<a href="https://suomenkirjastoseura.creamailer.fi/ac4/AiQqueU2tpv/KXowe8Hlgm0uwPzIe1z"><span>täällä</span></a>. Seminaariohjelmassa liikutaan demokratian, ihmisten, digitaalisuuden, tekoälyn ja tulevaisuuden rajapinnassa. Oheisohjelmat ja iltatilaisuudet tarjoavat mielenkiintoisia aktiviteetteja ja loistavia verkostoitumisalustoja. Ammattimessuilla pääset puolestaan tutustumaan 30 eri toimijan palveluihin, katso näytteilleasettajat&nbsp;<a href="https://suomenkirjastoseura.creamailer.fi/ac4/fKfQ5Jc7swH/KXowe8Hlgm0uwPzIe1z"><span>täältä</span></a>.</p><p>Kirjastopäivät järjestetään 3.-5.6.2026 Oulussa teemalla ”<strong>Yhteiskunta kehittyy kirjastossa</strong>”.</p><p><a href="https://suomenkirjastoseura.creamailer.fi/ac4/b7GxWUfMjSd/KXowe8Hlgm0uwPzIe1z"><span>Ilmoittautuminen</span></a>&nbsp;Kirjastopäiville ja sen oheisohjelmiin on auennut. Osaan ohjelmakokonaisuuksista on rajallinen osallistujamäärä, joten kannattaa varmistaa paikat hyvissä ajoin!</p><p>Kaikille loppuvuodesta 2025 Super Early Bird -lipun lunastaneille toimitetaan ilmoittautumislinkit, jonka kautta pääsee päivittämään tarkemmat osallistumistiedot.</p><p>Nähdään kesäkuussa Oulun&nbsp;<a href="https://suomenkirjastoseura.creamailer.fi/ac4/eHbOC3pN/KXowe8Hlgm0uwPzIe1z"><span>Kirjastopäivillä</span></a>!</p><p>&nbsp;</p>
LOCATION:Oulun teatteri ja keskustakirjasto Saari
END:VEVENT
END:VCALENDAR