BEGIN:VCALENDAR
VERSION:2.0
PRODID:-//kirjastotfi/procal//NONSGML v1.0//EN
BEGIN:VEVENT
DTSTART:20250408T093000
DTEND:20250408T110000
SUMMARY:Erten etävinkit: Kesälukukampanjat ja kerhotoimintaa kirjastossa
DESCRIPTION:<p>Erten etävinkeillä 8.4. kuullaan Eläkeläismysteeri-konseptista ja Seinäjoen pääkirjaston Tarinakerhosta, sekä tutustutaan ensi kesän lukukampanjoihin.</p><p>Tule mukaan linjoille ja keskustelemaan tai tilaa tallenne!</p><p><strong>OHJELMA 8.4. klo 9.30–11.00</strong></p><p>klo 9.30–9.35<br><strong>Alkusanat</strong></p><p>klo 9.35–10.00<br><strong>Tarinakerho Seinäjoen pääkirjastossa</strong><br>Taru Siltanen</p><p>klo 10.00–10.10<br><strong>Kysymyksiä ja keskustelua</strong></p><p>klo 10.10–10.30<br><strong>Eläkeläismysteeri-materiaalipaketti</strong><br>Outi Kytöniemi, SJK Erte</p><p>klo 10.30–11.00<br><strong>Kesälukukampanjoiden esittelyä</strong><br>Emilia Koski, SJK Erte</p><p><a href="https://www.sjkerte.fi/events/erten-etavinkit-kesalukukampanjat-ja-kerhotoimintaa-kirjastossa">Ilmoittaudu mukaan SJK Erten kotisivuilla!</a></p><p><em>Webinaari tallennetaan ja linkki tallenteeseen lähetetään kaikille tapahtumapäivään mennessä ilmoittautuneille. Tallenne on katsottavissa 12 päivän ajan. Pidätämme oikeuden muutoksiin.</em></p>
LOCATION:
END:VEVENT
END:VCALENDAR