BEGIN:VCALENDAR
VERSION:2.0
PRODID:-//kirjastotfi/procal//NONSGML v1.0//EN
BEGIN:VEVENT
DTSTART:20250401T130000
DTEND:20250401T150000
SUMMARY:PiKen mediasivistys: yhteisöllisyys aikuisten monilukutaitotyössä
DESCRIPTION:<p><strong>Miten yhteisöllisyys liittyy kirjastoissa tehtävään aikuisten mediasivistystyöhön? Mistä lähtökohdista voidaan rakentaa vaikuttavaa ja kohderyhmän tarpeisiin vastaavaa monilukutaitotyötä? Tässä tilaisuudessa avataan vuorovaikutuksen ja osallisuuden merkitystä kirjastojen aikuisille suunnatussa kriittistä lukutaitoa ja medialukutaitoa tukevassa työssä.</strong></p><p>Aihetta lähestytään konkreettisten esimerkkien kautta pohtien, miten luodaan turvallinen ympäristö, mahdollistetaan pystyvyyden kokemukset ja vahvistetaan ihmisen myönteistä kuvaa itsestä oppijana, median käyttäjänä ja yhteisön jäsenenä. Yhteisöllisen lukemisen periaatteita avataan yhtenä mahdollisuutena toteuttaa aikuisten mediasivistystä kirjastoissa.</p><p>Kouluttajana toimii <strong>Anna Kähkönen</strong>, yhteisöpedagogitaustainen kirjastolainen, joka katselee kaikkea lukemiseen ja lukutaitoon liittyvää yhteisöllisyyden, osallisuuden ja yhdenvertaisuuden kautta. Annan mukaan lukutaitotyö on ehdottomasti hyvinvointityötä ja yhteisöllinen lukeminen on mainio vaihtoehto myös mediasivistykseen.</p><p>Kaikille avoin tilaisuus on osa vuoden 2025 aikana toteutettavaa <a href="https://akepike.fi/mediasivistys-ja-kriittinen-monilukutaito-2024-2026/">PiKen mediasivistysprojektia</a>, jonka tavoitteena on antaa työkaluja ja tarjota uusia näkökulmia Pirkanmaan ja Keski-Suomen kirjastoissa tehtävään aikuisten medialukutaitotyöhön.</p><h2><strong>Aika, paikka ja ilmoittautuminen</strong></h2><p><strong>PiKen mediasivistys: yhteisöllisyys aikuisten monilukutaitotyössä</strong><br><strong>Ti 1.4.2025</strong><br><strong>Klo 13.00–15.00</strong><br><strong>Etälähetys ja tallenne</strong></p><p><a href="https://akepike.fi/koulutus/piken-mediasivistys-yhteisollisyys-aikuisten-monilukutaitotyossa/">Ilmoittaudu mukaan ohesta 24.3. mennessä.</a> Ilmoittautumisen yhteydessä saat sähköpostiisi linkin tilaisuuden ennakkokyselyyn.</p><h2><strong>Opiskelumateriaalit</strong></h2><p>Tilaisuus tallennetaan. Linkki tallenteeseen päivitetään Akepiken opiskelumateriaaleihin tilaisuuden jälkeen.</p><h2><strong>Ohjelma</strong></h2><p>Klo 13.00-13.10 Tervehdys PiKen mediasivistysprojektiryhmältä</p><p>Klo 13.10-14.00 Vuorovaikutuksen, yhteisöjen ja yhteisöllisyyden merkitys aikuisten lukutaito- ja mediasivistystyössä / <strong>Anna Kähkönen</strong></p><p>Klo 14.00-14.10 tauko</p><p>Klo 14.10-15.00 Kohderyhmien tarpeista tavoitteisiin ja toimintaan /<strong> Anna Kähkönen</strong></p><h2><strong>Lisätiedot</strong></h2><p>Projektisuunnittelija Kaisa Palomäki<br>040 659 3021 /&nbsp;kaisa.palomaki(a)tampere.fi</p><p><em>Tilaisuuden järjestää Tampereen kaupunginkirjasto. Tampereen kaupunginkirjastolla on alueellinen kehittämistehtävä Pirkanmaan ja Keski-Suomen alueella. Kuvat ja tunnelmat somessa, käytä tunnistetta #akepike.</em></p>
LOCATION:Etälähetys
END:VEVENT
END:VCALENDAR