BEGIN:VCALENDAR
VERSION:2.0
PRODID:-//kirjastotfi/procal//NONSGML v1.0//EN
BEGIN:VEVENT
DTSTART:20250213T130000
DTEND:20250213T143000
SUMMARY:Erityisvinkkarikahvit
DESCRIPTION:<ul><li>Mitä kaikkea erityisryhmille vinkkaamisessa on hyvä ottaa huomioon?</li><li>Millaisia kokemuksia erityisryhmille suunnatussa hankkeessa saatiin?</li></ul><p>AKE Porvoon iltapäiväkahveilla 13.2. tutustumme Kuopion kaupunginkirjaston Lukuvimma-hankkeessa tuotettuun Erityisvinkkarioppaaseen.</p><p>Opasta esittelevät hanketyöntekijät <strong>Raija Savinainen</strong> ja <strong>Riikkamaria Korhonen</strong>. Raija työskentelee informaatikkona Kuopion kaupunginkirjastossa. Riikkamaria toimii vastaavana sanataideohjaajana Sanataidekoulu Aapelissa.</p><p><a href="https://savonake.fi/wp-content/uploads/2024/08/Erityisvinkkariopas.pdf">Erityisvinkkariopas</a> tarjoaa käytännön ohjeita ja materiaalia yläkoulun (sovellettavissa myös alakouluun) erityistä tukea tarvitsevien oppilaiden kirjavinkkaukseen, kirjastonkäytön opetukseen sekä erityisnuoren lukuinnon herättelyyn ja lukijuuden tukemiseen. </p><h3>Aikataulu</h3><p>13-13.45 Erityisvinkkarioppaan esittely / Raija Savinainen ja Riikkamaria Korhonen</p><p>13.45-14.30 Kysymyksiä ja keskustelua oppaan pohjalta</p><h3>Kenelle?</h3><p>Kahvit on tarkoitettu kaikille kiinnostuneille, tervetuloa mukaan!</p><p><a href="https://teams.microsoft.com/l/meetup-join/19%3ameeting_ODYzYTAxOWEtMjhhNy00Zjc4LWE1ZjktNzAwMWE2YWZjOTNj%40thread.v2/0?context=%7b%22Tid%22%3a%22ca8dd34c-ed0b-4236-92cb-5644bfcfaed6%22%2c%22Oid%22%3a%22c914ca2e-6e3f-4481-9fe5-d5b562bcbc61%22%7d">Osallistumislinkki erityisvinkkarikahveille</a></p>
LOCATION:Teams
END:VEVENT
END:VCALENDAR