BEGIN:VCALENDAR
VERSION:2.0
PRODID:-//kirjastotfi/procal//NONSGML v1.0//EN
BEGIN:VEVENT
DTSTART:20240530T160000
DTEND:20240530T170000
SUMMARY:Koulutus digi.kansalliskirjasto.fi-palvelun käytöstä 30.5.2024
DESCRIPTION:<p>Kiinnostaako digi.kansalliskirjasto.fi-palvelun sisällöt? Haluatko oppia hakemaan aineistoja paremmin?&nbsp;<br><br>Nyt on tarjolla koulutusta palvelun viimeisimmistä uudistuksista ja vinkkejä järjestelmän tehokkaaseen käyttöön. Koulutus järjestetään torstaina 30.5. klo 16-17&nbsp; Zoomilla ja linjoilla ovat Kansalliskirjaston asiantuntijat Tuula Pääkkönen ja Juha Rautiainen. Voit myös esittää kysymyksiä palveluun liittyen.</p><p>Tilaisuutta ei tallenneta. Voit itse striimata koulutuksen ja käyttää sitä vapaasti.</p><p><br><a href="https://www.kansalliskirjasto.fi/fi/uutiset/koulutusta-digikansalliskirjastofi-palvelun-kaytosta-30052024-klo-16">Koulutusilmoitus Kansalliskirjaston sivuilla</a></p><p><br>Zoom-osoite lisätään tapahtuman sivulle viim. ke 29.5. 2024.</p>
LOCATION:Zoom
END:VEVENT
END:VCALENDAR