BEGIN:VCALENDAR
VERSION:2.0
PRODID:-//kirjastotfi/procal//NONSGML v1.0//EN
BEGIN:VEVENT
DTSTART:20240418T090000
DTEND:20240418T104500
SUMMARY:Kirjastojen tilastokatsaus 2023
DESCRIPTION:<p>Vuoden 2023 kirjastotilastot julkaistaan huhtikuun alussa. AVI Kirjastotoimi järjestää jälleen tilastokatsauksen menneeseen vuoteen. Tilaisuudessa käydään läpi huomioita, joita tilastoista nousee sekä valtakunnallisesti että kirjastokentältä. Lisäksi tilaisuudessa esitellään OKM:n ja Kuntaliiton uudet kulttuuritilastopalvelut.</p>

<p>Koulutus on maksuton, ja se on tarkoitettu kaikille kirjastolaisille.&nbsp;Tilaisuutta ei tallenneta.</p>

<p><a href="https://ssl.eventilla.com/event/N4XkB"><strong>Ilmoittautuminen</strong></a></p>

<p><strong>Ohjelma</strong></p>

<p>9–9.30 &nbsp;&nbsp;&nbsp;&nbsp;&nbsp;&nbsp;&nbsp; Katsaus valtakunnallisiin kirjastotilastoihin ja tilastovuoteen 2023 /Jonna Toukonen (avi)</p>

<p>9.30–9.50 &nbsp;&nbsp; Miltä näytti tilastovuosi 2023 kirjastokentällä /Joni Rahja, Kajaanin kaupunki</p>

<p>Tauko</p>

<p>10.00-10.15 Opetus- ja kulttuuriministeriön taidejakulttuuri.fi-palvelu /Mira Kajantie, Tilastokeskus</p>

<p>10.15-10.30 Kuntien kulttuuritilastopalvelu KULTTI /Johanna Selkee, Kuntaliitto</p>

<p>10.30-10.45 Keskustelua</p>

<p>&nbsp;</p>

<p>Lisätietoja: kirjastotoimen ylitarkastaja Jonna Toukonen, jonna.toukonen(at)avi.fi, puh. 0295 018&nbsp;222</p>

LOCATION:Teams
END:VEVENT
END:VCALENDAR