BEGIN:VCALENDAR
VERSION:2.0
PRODID:-//kirjastotfi/procal//NONSGML v1.0//EN
BEGIN:VEVENT
DTSTART:20240517T090000
DTEND:20240517T113000
SUMMARY:Kirjastot ja tietojohtaminen
DESCRIPTION:<p>Turun kaupunginkirjasto järjestää valtakunnallisen webinaarin tietojohtamisesta 17.5. klo 9-11.30.</p>

<p>Webinaarin aikana tutkiskellaan tiedolla johtamista eri näkökulmista. Suuria suuntaviivoja tulee visioimaan Turun kaupungin tutkimusjohtaja Timo Aro, jonka erityisosaamista ovat alue- ja väestönkehitys. Millä tavoin väestönkehityksen ennusteita tulisikaan hyödyntää kirjastojen toiminnan suunnittelussa? VAKE:n kehittämispäällikkö Matti Sarmela johdattaa tarkastelemaan tiedon ja päätöksentekokyvykkyyden suhdetta, kun taas Itä-Suomen AVI:n kirjastotoimen ylitarkastaja Virpi Launonen puhuu kirjastotilastojen hyödyntämisestä johtamisen välineenä. Tampereen kaupunginkirjaston suunnittelija Lepe Parviainen jakaa Tampereen kokemuksia Power BI:n kanssa: mitä sillä voi saada aikaan, mitä haasteita Power BI tuo kirjastodatan ja sen siirron kanssa erityisesti Aurora-kirjastojärjestelmää silmällä pitäen. Turun kaupungin kirjastopalvelujohtaja Rebekka Pilppula kertoo Kirjastot ja tietojohtaminen -hankkeen tuloksista.</p>

<p>Voit ilmoittautua webinaariin seuraavasta linkistä: <a href="https://www.lyyti.in/Kirjastot_ja_tietojohtaminen_8463">Kirjastot ja tietojohtaminen</a></p>

<p>Webinaari tallennetaan, ja linkki tallenteeseen lähetetään kaikille ilmoittautuneille. Tallenne on katsottavissa kahden viikon ajan.</p>

LOCATION:Teams
END:VEVENT
END:VCALENDAR