BEGIN:VCALENDAR
VERSION:2.0
PRODID:-//kirjastotfi/procal//NONSGML v1.0//EN
BEGIN:VEVENT
DTSTART:20230912T093000
DTEND:20230912T110000
SUMMARY:Erten etävinkit: Kirjasto ja monikieliset asiakkaat
DESCRIPTION:<p>Syksyn ensimmäisten Erten etävinkkien teemana on kirjasto ja monikieliset asiakkaat. Ilmoittaudu mukaan ja seuraa koulutusta tapahtumapäivänä tai katsele tallenne sinulle sopivaan aikaan!</p>

<p><strong>KIRJASTO JA MONIKIELISET ASIAKKAAT TI 12.9. klo 9.30–</strong><strong>11.00</strong></p>

<p>klo 9.30–9.50<br />
<strong>Minun kieleni -projekti (esitys englanniksi)</strong><br />
Ivonne Ramirez, Vaasan kaupunginkirjasto</p>

<p>klo 10.00–10.20<br />
<strong>S2-opettajien näkökulmia kirjastoyhteistyöhön</strong><br />
Seinäjoen Erte teki kyselyn S2 ja R2 -opettajille keväällä 2023.<br />
Kirjastonhoitaja Karoliina Prinkkilä kertoo tuloksista.</p>

<p>klo 10.30–10.50<br />
<strong>Monikieliset lastenkirjat päiväkotien iltasatukirjahyllyihin</strong><br />
Informaatikko Riitta Hämäläinen, Monikielinen kirjasto</p>

<p>klo 10.50-11.00<br />
Keskustelua ja lopetus</p>

<p><a href="https://link.webropolsurveys.com/EP/B493DD5007EFFE3E">Ilmoittaudu mukaan tästä!</a></p>

<p><em>Etävinkit tallennetaan ja linkki tallenteeseen lähetetään kaikille tapahtumapäivään mennessä ilmoittautuneille. Tallenne on katsottavissa 12 päivän ajan.</em></p>

LOCATION:Microsoft Teams
END:VEVENT
END:VCALENDAR