BEGIN:VCALENDAR
VERSION:2.0
PRODID:-//kirjastotfi/procal//NONSGML v1.0//EN
BEGIN:VEVENT
DTSTART:20230922T090000
DTEND:20230922T103000
SUMMARY:Digitukijan aamukahvit
DESCRIPTION:<p>Kirjastossa kohtaamme päivittäin hyvin erilaisia asiakkaita. Päivittäisessä työssä myös digiopastamme huomaamatta hyvin monenlaisissa asioissa. Yhä enenevässä määrin asiakkaamme ovat myös monikulttuurisia ja puhuvat äidinkielenään jotain muuta kuin suomea, ruotsia tai englantia.<br />
AKE Porvoon järjestämillä Digitukijan aamukahveilla perjantaina 22.9. klo 9–10.30 kuullaan asiaa digikotoutumisesta sekä kieli- ja kulttuuritietoisuudesta digitalisaatiossa.</p>

<p>Aihetta pohjustaa Moniheli ry:n Digi Up ‑hankkeen projektipäällikkö Artem Kuosti. Moniheli on suomalainen monikulttuurinen verkosto, joka tukee maahan muuttaneita, kotoutumista ja yhteiskunnallista osallisuutta sekä edistää yhdenvertaisuutta.</p>

<h2>Tuleeko tallenne?</h2>

<p>Tästä tilaisuudesta ei tule tallennetta.</p>

<h2>Kohderyhmä ja ilmoittautuminen</h2>

<p>Digitukijan aamukahvit on suunnattu kaikille asiakaspalvelua ja digiopastusta tekeville Uudenmaan yleisten kirjastojen työntekijöille. Voit myös tulla mukaan vain kuuntelemaan.</p>

<p>Ennakkoilmoittautumista ei tarvita. Voit halutessasi jättää etukäteen mieltä askarruttavia kysymyksiä&nbsp;<a href="https://link.webropolsurveys.com/EP/16D205EF6379BDAE">tällä lomakkeella</a>&nbsp;15.9. mennessä.</p>

<p><a href="https://teams.microsoft.com/l/meetup-join/19%3ameeting_MjhjZGExZGQtZDU3MC00NDMwLWIyMjUtOTFmNzM5ZmUwNzgy%40thread.v2/0?context=%7b%22Tid%22%3a%22ca8dd34c-ed0b-4236-92cb-5644bfcfaed6%22%2c%22Oid%22%3a%22e541d5ec-347e-45c2-89f1-1bfbb9dba5ca%22%7d">Liity mukaan aamukahveille tästä linkistä!</a></p>

<p>&nbsp;</p>

<p>Lisätietoja:&nbsp;<a href="mailto:elina.karioja@porvoo.fi">Elina Karioja</a></p>

LOCATION:Teams
END:VEVENT
END:VCALENDAR