BEGIN:VCALENDAR
VERSION:2.0
PRODID:-//kirjastotfi/procal//NONSGML v1.0//EN
BEGIN:VEVENT
DTSTART:20230905T093000
DTEND:20230905T110000
SUMMARY:Työpaja e-kirjastotyötä tekeville 
DESCRIPTION:<p>ti 5.9. klo 9.30–11&nbsp;<br />
Työpaja e-kirjastotyötä tekeville&nbsp;</p>

<p>Työpaja on suunnattu käyttäjäkoulutusta, opastusta, käyttötukea, teknistä ylläpitoa ja infraa, käyttöoikeuksia tai viestintää ja markkinointia työkseen tekeville kirjastoammattilaisille. Myös esihenkilöt ja kirjastotoimenjohtajat ovat tervetulleita.&nbsp;</p>

<p>Kuntien yhteinen e-kirjasto aloittaa 1.1.2024 osana Kansalliskirjastoa. Tule kuulemaan ja suunnittelemaan, millaisia kiinnostavia, e-aineistoihin liittyviä tehtäviä sinulle on jatkossa tarjolla Kansalliskirjaston työryhmissä sekä keskustelemaan aiheista. &nbsp;</p>

<p>Fasilitaattorina <strong>Petri Toikkanen</strong> Osana Oy:stä. Mukana myös e-kirjastohankkeen projektiasiantuntija <strong>Seija Laitinen-Kuisma</strong>. &nbsp;</p>

<p>Työpajaan otetaan maks. 30 henkilöä ja Zoom-linkki lähetetään ilmoittautuneille. <a href="https://forms.office.com/e/iYPWvD4GRQ">Ilmoittaudu pe 1.9.2023 mennessä</a>.&nbsp;</p>

<p>HUOM! Ennen työpajaa ti 5.9. klo 9–9.30 järjestetään avoin infotilaisuus e-kirjaston työryhmistä. Voit halutessasi osallistua myös infotilaisuuteen. <a href="https://teams.microsoft.com/l/meetup-join/19%3ameeting_MjU0ODQ3ZjAtM2IxMi00ZjZmLTlkNDMtYjAxN2JhYWQ3YWZl%40thread.v2/0?context=%7b%22Tid%22%3a%223feb6bc1-d722-4726-966c-5b58b64df752%22%2c%22Oid%22%3a%2209f2bccf-fc8c-4a5f-b54b-70a7ef947474%22%7d">Tässä infotilaisuuden Teams-linkki</a>.&nbsp;</p>

LOCATION:Teams
END:VEVENT
END:VCALENDAR