BEGIN:VCALENDAR
VERSION:2.0
PRODID:-//kirjastotfi/procal//NONSGML v1.0//EN
BEGIN:VEVENT
DTSTART:20230929T090000
DTEND:20230929T160000
SUMMARY:Visusti kirjastossa -työpaja
DESCRIPTION:<p><strong>Miten kirjaston aineistojen esillepanosta tehdään houkuttelevaa ja kiinnostavaa? Millaisilla keinoilla voimme auttaa asiakasta näkemään, löytämään ja valitsemaan aineistoja hyllyistä?</strong></p>

<p>Koulutuspäivän tavoitteena on oppia suunnittelemaan ja rakentamaan houkuttelevia teemaesillepanoja käytännön harjoitusten avulla. Aineistojen löydettävyyttä parantamalla edistämme lukutaitotyötä ja vahvistamme asiakkaiden mahdollisuuksia asioida itsenäisesti kirjastotiloissa. Koulutus vastaa Lapin kirjaston strategian 2019 – 2024 päämääriin uudistuvasta kirjastosta ja osaavasta henkilöstöstä.</p>

<p>Koulutus on suunnattu Lapin yleisten kirjastojen henkilökunnalle ja on osa Rovaniemen kaupunginkirjaston alueellisen kehittämistehtävän koulutustarjontaa.</p>

<p>Kouluttajana toimii Sanne Nyholm Dekonetista.</p>

<p>Koulutuksessa ei ole etäosallistumismahdollisuutta.</p>

LOCATION:Jorma Eton tie 6 96100 Rovaniemi
END:VEVENT
END:VCALENDAR