BEGIN:VCALENDAR
VERSION:2.0
PRODID:-//kirjastotfi/procal//NONSGML v1.0//EN
BEGIN:VEVENT
DTSTART:20230905T120000
DTEND:20230905T150000
SUMMARY:Kirjastot ❤️ Faktabaari: Kriittistä lukutaitoa!
DESCRIPTION:<p><!-- /wp:paragraph --><!-- wp:paragraph --></p>

<p><strong>Lahden, Porvoon ja Tampereen alueelliset kehittämiskirjastot toteuttavat yhteistyössä Faktabaarin kanssa informaatiolukutaitoteemaisen sarjan etäkahveja ja -työpajoja vuonna 2023. Sarja on jatkoa viime vuonna alkaneelle AKE-yhteistyölle informaatiovaikuttamisen aihepiiristä. Työpajat on suunnattu Lahden, Porvoon ja Tampereen AKEjen alueiden kirjastohenkilöstölle. Tilaisuuksia ei tallenneta</strong>.</p>

<p><!-- /wp:paragraph --><!-- wp:paragraph --></p>

<p>Faktabaariyhteistyön syksyllä syvennytään kriittiseen lukutaitoon ja tutkivaan nettilukemiseen.</p>

<p><!-- /wp:paragraph --><!-- wp:paragraph --></p>

<p>Mitä on kriittinen nettilukutaito ja miten se eroaa perinteisestä lukutaidosta? Mitä on tutkittu, ja mitä viimeisimmät tutkimustulokset kertovat? Miten kriittistä nettilukutaitoa voisi edistää? Mikä voisi olla kirjastojen rooli tässä? Käsittelemme myös myyttiä nuorten diginatiivisuudesta.</p>

<p><!-- /wp:paragraph --><!-- wp:heading --></p>

<h2>Tilaisuuden tiedot</h2>

<p><!-- /wp:heading --><!-- wp:paragraph --></p>

<p><strong>Kirjastot </strong><strong>❤</strong><strong> Faktabaari: Kriittistä lukutaitoa!<br />
Ti 5.9.2023 klo 12–15<br />
Etätoteutus/Teams</strong></p>

<p><!-- /wp:paragraph --><!-- wp:paragraph --></p>

<p>Ilmoittaudu ti 29.8.2023 mennessä oheisesta linkistä.</p>

<p><!-- /wp:paragraph --><!-- wp:heading --></p>

<h2>Ohjelma</h2>

<p><!-- /wp:heading --><!-- wp:paragraph --></p>

<p>12.00–13.00&nbsp;Carita Kiili (Critical-hanke) ja Kari Kivinen (Faktabaari) kertovat nettilukutaidosta ja esittelevät Critical ryhmän tekemiä tutkimuksia ja materiaaleja.</p>

<p><!-- /wp:paragraph --><!-- wp:paragraph --></p>

<p>13.15–13.30 Tauko</p>

<p><!-- /wp:paragraph --><!-- wp:paragraph --></p>

<p>13.30–14.45&nbsp;Yhteistä keskustelua nettilukutaidosta</p>

<p><!-- /wp:paragraph --><!-- wp:paragraph --></p>

<p>14.45–15.00&nbsp;Iltapäivän yhteenveto ja Karin ja Caritan loppusanat</p>

<p><!-- /wp:paragraph --><!-- wp:heading --></p>

<h2>Kysy lisää</h2>

<p><!-- /wp:heading --><!-- wp:paragraph --></p>

<p>Vastaava informaatikko Jan Nyström, jan.nystrom(a)porvoo.fi, 040 596 0592</p>

<p><!-- /wp:paragraph --><!-- wp:paragraph --></p>

<p>Koordinaattori Juliaana Grahn, juliaana.grahn(a)tampere.fi, 040 800 7828</p>

<p><!-- /wp:paragraph --><!-- wp:paragraph --></p>

<p>Mediakasvatuskoordinaattori Pasi Kangas pasi.kangas(a)lahti.fi, 044 482 6153</p>

<p><!-- /wp:paragraph --></p>

LOCATION:Teams
END:VEVENT
END:VCALENDAR