BEGIN:VCALENDAR
VERSION:2.0
PRODID:-//kirjastotfi/procal//NONSGML v1.0//EN
BEGIN:VEVENT
DTSTART:20230921T130000
DTEND:20230921T150000
SUMMARY:Sanataiteen etätreffit: Rekvisiittanyyttärit
DESCRIPTION:<p>Tule mukaan rekvisiittanyyttäreille jakamaan&nbsp;parhaat kirjoitusinspiraatiovinkit! Näillä treffeillä saa esitellä omia lempinappejaan, hattujaan, kirjoitusvihkojaan sekä jakaa kaikenlaisia niksejä, joilla voi tukea omaa tai ohjaamansa ryhmän kirjoittamista. Käytätkö musiikkia tai kuvia tunnelman luomiseen?&nbsp;Rekvisiittanyyttäreille saa tulla myös vain nauttimaan toisten eväistä!</p>

<p>Vieraaksemme saapuu esikoiskirjailija&nbsp;ja erikoiskirjastonhoitaja&nbsp;<strong>Ella Paija</strong>, joka ohjaa päivän vapaaehtoisen kirjoitusharjoituksen.</p>

<h2>Ilmoittautuminen ja osallistuminen</h2>

<p>Sanataiteen etätreffeille voivat tulla mukaan kaikki, joita kiinnostaa kirjastojen sanataidetyö. Sanataiteen etätreffit järjestetään Teams-kokouksena. Ilmoittaudu mukaan&nbsp;<a href="https://link.webropolsurveys.com/EP/25357D7BF327C4FF">tällä lomakkeella</a>.</p>

<p>Etätreffeihin sisältyy vuorovaikutusta sekä vapaaehtoisia sanataideharjoituksia. Osallistujilla on hyvä olla mikrofoni käytettävissään sekä kynä ja paperia käden ulottuvilla.</p>

<h3>Tervetuloa mukaan!</h3>

<h2>Lisätietoja</h2>

<p>Noora Oluikpe, sisältökoordinaattori<br />
puh. 044 482&nbsp;6154<br />
noora.oluikpe@lahti.fi</p>

LOCATION:Teams
END:VEVENT
END:VCALENDAR