BEGIN:VCALENDAR
VERSION:2.0
PRODID:-//kirjastotfi/procal//NONSGML v1.0//EN
BEGIN:VEVENT
DTSTART:20230906T130000
DTEND:20230906T134500
SUMMARY:Kaffepaus på svenska: Asiakaspalveluruotsia
DESCRIPTION:<p>Mitä on asiakaspalvelu ruotsiksi? Entäpä kirjastokortti tai varaustunnus? Tervetuloa vapaamuotoiselle ruotsintunnille <strong>ke 6.9. klo 13-13.45.</strong></p>

<p>Porvoon kaupunginkirjaston kielikaverit <strong>Catharina Latvala</strong> ja <strong>Frej Feodoroff</strong> johdattavat sinut draaman keinoin asiakaspalvelun ruotsinkieliseen maailmaan. Kaffepaussille ei tarvitse ilmoittautua etukäteen.</p>

<p>Klikkaa itsesi mukaan alla olevasta linkistä</p>

<p><a href="https://teams.microsoft.com/l/meetup-join/19%3ameeting_MGI2NDRiZjgtZWQ1ZS00ODE5LTgxNDctYWJmMzk0MTlhOGNi%40thread.v2/0?context=%7b%22Tid%22%3a%22ca8dd34c-ed0b-4236-92cb-5644bfcfaed6%22%2c%22Oid%22%3a%2251f7aaa5-6f70-4662-8e6d-4a11664115ff%22%7d">Osallistumislinkki</a></p>

LOCATION:Teams
END:VEVENT
END:VCALENDAR