BEGIN:VCALENDAR
VERSION:2.0
PRODID:-//kirjastotfi/procal//NONSGML v1.0//EN
BEGIN:VEVENT
DTSTART:20220818T130000
DTEND:20220818T150000
SUMMARY:e-kirjastohankkeen työpaja kirjastojen esihenkilöille, kuten kirjastopalvelujohtajille, palvelupäälliköille tai muille e-kirjastopalveluista vastaaville ammattilaisille
DESCRIPTION:<p>Kuka valitsee jatkossa kokoelman yhteiseen e-kirjastoon?&nbsp;<br />
Kuka opastaa asiakkaat e-kirjaston käyttöön?&nbsp;<br />
Mistä kaikista tehtävistä täytyy huolehtia, että yhteinen e-kirjasto toimii laadukkaasti?&nbsp;<br />
<br />
E-kirjastohanke järjestää kaksi kirjastoille suunnattua Zoom-työpajaa, joiden teemana on uuden, yhteisen e-kirjaston tehtävät ja työnjako. &nbsp;<br />
<br />
Ensimmäinen työpaja järjestetään to 9.6. klo 13–15 ja se on suunnattu e-kirjastotehtäviä, kuten aineistonvalintaa, tilastointia, asiakasopastusta tai teknisiä ongelmia tällä hetkellä hoitaville kirjastoammattilaisille. &nbsp;<br />
<br />
Toinen työpaja järjestetään to 18.8. klo 13–15 ja se on suunnattu kirjastojen esihenkilöille, kuten kirjastopalvelujohtajille, palvelupäälliköille tai muille e-kirjastopalveluista vastaaville ammattilaisille.&nbsp;<br />
<br />
Työpajojen tavoitteena on kuulla kirjastojen näkemyksiä siitä, miten tehtävät on jatkossa hyvä jakaa kirjastojen ja perustettavan, uuden e-kirjaston organisaation välillä.&nbsp;<br />
<br />
Työpajat järjestetään Zoomin välityksellä. Yhteen työpajaan mahtuu enintään 50 henkeä. Jos tulijoita on enemmän, työpajoja voidaan myöhemmin järjestää lisää.&nbsp;<br />
<br />
Työpajojen fasilitoijana toimivat Petri Toikkanen Osana yhteistä ratkaisua Oy:stä ja Seija Laitinen-Kuisma e-kirjastohankkeesta. &nbsp;<br />
<br />
Ilmoittaudu työpajaan <a href="https://forms.office.com/r/e6shFk8Vxn">tästä linkistä</a>. Ilmoittautumisia otetaan vastaan aivan työpajojen alkuun asti, jos niissä on tilaa.&nbsp;</p>

LOCATION:Zoom
END:VEVENT
END:VCALENDAR