BEGIN:VCALENDAR
VERSION:2.0
PRODID:-//kirjastotfi/procal//NONSGML v1.0//EN
BEGIN:VEVENT
DTSTART:20210128T115000
DTEND:20210128T150000
SUMMARY:Kirjasaari – Matkalippu vuoden 2020 tarinoihin - Aikuiset
DESCRIPTION:<p><strong>KIRJASAARI - AIKUISET</strong></p>

<p><strong>TO 28.1.2021</strong></p>

<p>klo 11.50 - 12.00&nbsp;&nbsp;&nbsp;&nbsp;&nbsp; <strong>Tervetuloa!</strong></p>

<p>klo 12.00 - 13.00 &nbsp; &nbsp; &nbsp;<strong>Vuoden 2020 kirjat, pelit ja musiikki</strong><br />
&nbsp; &nbsp; &nbsp; &nbsp; &nbsp; &nbsp; &nbsp; &nbsp; &nbsp; &nbsp; &nbsp; &nbsp; &nbsp; &nbsp; &nbsp; &nbsp; &nbsp;Kainuun ja Pohjois-Pohjanmaan kirjastojen henkilökunta</p>

<p>klo 13.00 - 14.00 &nbsp; &nbsp; &nbsp;<strong>Kotimaiset sarjakuvauutuudet ja pohjoissuomalainen sarjakuva tänä päivänä</strong><br />
&nbsp; &nbsp; &nbsp; &nbsp; &nbsp; &nbsp; &nbsp; &nbsp; &nbsp; &nbsp; &nbsp; &nbsp; &nbsp; &nbsp; &nbsp; &nbsp; &nbsp;Oulun Sarjakuvakeskuksen toiminnanjohtaja ja sarjakuvantekijä (TaM) Harri Filppa &nbsp;</p>

<p>klo 14.00 - 15.00 &nbsp; &nbsp; &nbsp;<strong>Tietokirjallisuus vaaran vuotena</strong><br />
&nbsp; &nbsp; &nbsp; &nbsp; &nbsp; &nbsp; &nbsp; &nbsp; &nbsp; &nbsp; &nbsp; &nbsp; &nbsp; &nbsp; &nbsp; &nbsp; &nbsp;toimittaja ja tietokirjailija Petri Laukka</p>

<p>klo 15.00 &nbsp; &nbsp; &nbsp; &nbsp; &nbsp; &nbsp; &nbsp; &nbsp; &nbsp;<strong>Kiitokset</strong></p>

<p>&nbsp;</p>

<p>Muista ilmoittautua koulutukseen viimeistään 21.1.2021:</p>

<p><a href="https://www.kuntapalvelut.fi/sikunkoulutuskalenteri/course.php?l=fi&amp;t=2552">https://www.kuntapalvelut.fi/sikunkoulutuskalenteri/course.php?l=fi&amp;t=2552</a></p>

LOCATION:Oulun kaupunginkirjasto
END:VEVENT
END:VCALENDAR