BEGIN:VCALENDAR
VERSION:2.0
PRODID:-//kirjastotfi/procal//NONSGML v1.0//EN
BEGIN:VEVENT
DTSTART:20201203T090000
DTEND:20201203T113000
SUMMARY:Lukemattomat aikuiset -työkaluja kirjastoille lukulux.fi 
DESCRIPTION:<h4>Työpajat Lukulux-käsikirjan menetelmistä&nbsp;</h4>

<h4>Työpaja, jossa Lukemattomat mahdollisuudet -hankkeessa kehitettyjä, nuorten aikuisten lukutaitoon liittyviä menetelmiä pääsee kokeilemaan käytännössä.</h4>

<p>Työpaja on helppo ja käytännöllinen, se ei vaadi webinaariin osallistumista tai aiempaa perehtymistä aiheeseen. Alustana zoom.&nbsp;</p>

<p>Webinaari aiheesta 10.12.&nbsp;</p>

<h4>Työpaja&nbsp;pidetään<strong>&nbsp;verkossa&nbsp;3.12. klo 9-11.30</strong>.&nbsp;</h4>

<p>Ilmoittautumiset työpajoihin sähköpostitse: <a href="mailto:tarja.rajala@turku.fi">tarja.rajala@turku.fi</a></p>

LOCATION:verkkototeutus, koko Suomi
END:VEVENT
END:VCALENDAR