BEGIN:VCALENDAR
VERSION:2.0
PRODID:-//kirjastotfi/procal//NONSGML v1.0//EN
BEGIN:VEVENT
DTSTART:20201111T160000
DTEND:20201111T180000
SUMMARY:Monimuotoisuus lastenkirjakuvituksessa
DESCRIPTION:<p>Kuinka tuoda lastenkirjamarkkinoille sellaisia ääniä, kuvia ja tapoja kertoa, jotka nyt ovat vielä aliedustettuina? Millaisia hyviä esimerkkejä meillä on antaa toisillemme? Entä mitä alan eri toimijat - kirjailijat, kuvittajat, kustantajat, kirjastot ja lukijat - voisivat oppia toisiltaan?<br />
&nbsp;<br />
<strong>Englanninkielinen webinaari </strong>koostuu kolmesta puheenvuorosta, keskustelusta ja kuva-analyysistä.&nbsp;<br />
<br />
Kuvittajat&nbsp;<strong>Jenny Lucander</strong>,&nbsp;<strong>Sanna Pelliccioni</strong>&nbsp;ja&nbsp;<strong>Elina Warsta</strong>&nbsp;taustoittavat&nbsp;aihetta omista näkökulmistaan&nbsp;ja kertovat Suomen&nbsp;tilanteesta.&nbsp;Kuvittajat&nbsp;<strong>Warda Ahmed</strong>&nbsp;ja&nbsp;<strong>Jasmina El Boumraoui</strong>&nbsp;(El Boum) avaavat aihetta kuvallisten esimerkkien ja kuva-analyysin avulla. Lähestymiskulma on rakentava ja kannustava.&nbsp;<br />
<br />
<strong>Osallistujat voivat&nbsp;lähettää kuva-analyysiin&nbsp;etukäteen omaa materiaalia josta he haluavat keskustella pe 8.11. saakka osoitteeseen:</strong>&nbsp;<a href="mailto:bibliothek-helsinki@goethe.de?subject=Webinaari%20Kuvittajat%2011.11.%3A%20materiaalia">bibliothek-helsinki@goethe.de</a><br />
&nbsp;<br />
Osallistuminen on ilmainen. Webinaari pidetään Zoomilla.&nbsp;<strong>Ilmoittautumiset 10.11. mennessä tämän linkin kautta:</strong><br />
<a href="https://zoom.us/meeting/register/tJcodeCtrzouG90Mx1ymKVojQQ8FR6jI12pZ">ILMOITTAUTUMINEN</a><br />
Ilmoittautumisen yhteydessä saat osallistumislinkin. &nbsp;<br />
&nbsp;</p>

<h2>TAUSTAA</h2>

<p>Webinaari on osa kansainvälistä&nbsp;<a href="https://www.goethe.de/ins/fi/fi/kul/sup/drin.html">DRIN</a>-projektia&nbsp;joka kysyy heijastavatko lastenkirjat Saksassa, Suomessa ja muissa pohjoisen Euroopan maissa monimuotoista arkeamme vai onko osa nuorista lukijoista niissä näkymättömiä.<br />
Lastenkirjat muovaavat lapsen maailmankuvaa. Lapselle on tärkeää löytää tarinoista, kuvituksista ja kertomisen tavoista samastumisen kohteita ja&nbsp;&nbsp;tutustua monipuolisesti häntä ympäröivään todellisuuteen.<br />
&nbsp;<br />
Projektin tavoitteena on alan toimijoiden verkostoituminen, olemassa olevan tietojen vaihtaminen ja uusien lastenkirjojen tuottaminen. Haluamme koota hyviä käytännön esimerkkejä kaikkialta maailmasta tietovarannoksi, joka tarjoaisi käännöksiä ja kannustaisi tuottamaan lisää sellaisia kirjoja, jotka heijastavat yhteiskuntamme monimuotoisuutta.<br />
&nbsp;<br />
Webinaari järjestävät yhteistyössä Kuvittajat ry:n ja Goethe-Institut Finnland.</p>

LOCATION:online
END:VEVENT
END:VCALENDAR