BEGIN:VCALENDAR
VERSION:2.0
PRODID:-//kirjastotfi/procal//NONSGML v1.0//EN
BEGIN:VEVENT
DTSTART:20201102T093000
DTEND:20201102T154500
SUMMARY:Kirjallisuutta, kyllä kiitos! - kaunon ja tiedon helmet II, Levi
DESCRIPTION:<p>AKE Lappi järjestää kaksi samansisältöistä kirjallisuuskoulutusta 2.-3.11. Levillä ja Rovaniemellä. Koulutuksessa&nbsp;pureudutaan ohuisiin klassikoihin, matalan kynnyksen kirjallisuuteen sekä uuteen luettavaan uudelle vuosikymmenelle.</p>

<p>Maanantaina 2.11. koulutus järjestetään Kittilän Levillä Hotelli Hullu Porossa osoitteessa Rakkavaarantie 5.</p>

<p>AKE Lappi tarjoaa aamu- ja iltapäiväkahvit. Lounas on omakustanteinen. Osallistujat vastaavat itse majoitus- ja matkakuluista.<br />
<br />
Päivän ohjelma:<br />
<br />
9.30 - 10 Aamukahvi<br />
10 - 11 Ohuet klassikot: tärppejä esitelmäntekijöille ja muille kiireisille<br />
11 - 12 Verta, hikeä ja seikkailua: matalan kynnyksen kirjallisuutta lukemattomille pojille (15+)<br />
12 - 13 Lounas (omakustanteinen)<br />
13 - 14.15 Kaunon ja tiedon helmet II: uutta luettavaa uudelle vuosikymmenelle<br />
14.15 - 14 .30 Kahvitauko<br />
14.30 - 15.45 &nbsp;Kaunon ja tiedon helmet II jatkuu.<br />
<br />
Kouluttajana toimii Marika&nbsp;Helovuo. Koulutuksiin ei ole etäyhteysmahdollisuutta.</p>

<p>Ilmoittautuminen päättyy 26.10.</p>

<p>Ilmoittautumiseen:&nbsp;<a href="https://bit.ly/3hZnZLN">https://bit.ly/3hZnZLN</a></p>

LOCATION:Levi, Hotelli Hullu Poro, Rakkavaarantie 5
END:VEVENT
END:VCALENDAR