BEGIN:VCALENDAR
VERSION:2.0
PRODID:-//kirjastotfi/procal//NONSGML v1.0//EN
BEGIN:VEVENT
DTSTART:20201006T100000
DTEND:20201006T160000
SUMMARY:Lasten ja nuorten tietokirjat lukuilon edistäjänä -verkkoseminaari 6.10.
DESCRIPTION:<p>Tervetuloa seuraamaan Lasten ja nuorten tietokirjat lukuilon edistäjänä -verkkoseminaaria. Seuraaminen ei edellytä ennakkoilmoittautumista, vaan seminaari on avoinna kaikille kiinnostuneille. Voit seurata lähetystä Kirjastokaistalta:<br />
https://www.kirjastokaista.fi/live<br />
<br />
<strong>OHJELMA TI 6.10.2020</strong><br />
<br />
klo 10.00<br />
Seminaarin avaussanat<br />
Teresia Volotinen, IBBY Finland ry<br />
<br />
klo 10.15<br />
Haltijaväkeä, hevosia ja luonnon taikaa<br />
tietokirjailija Marjut Hjelt<br />
<br />
klo 11.15<br />
Tietoa ja tarinaa Topeliuksen saduissa<br />
kirjailija Tuula Pere<br />
<br />
klo 12.15<br />
Tutkimusmatkalla maailman ympäri<br />
tietokirjailija Markku Löytönen<br />
<br />
klo 13.15<br />
Kirjavinkkari Pia Göös esittelee uusia lasten ja nuorten tietokirjoja<br />
<br />
klo 14.15<br />
Food stories for children: an interdisciplinary approach<br />
kansainvälinen vieraamme, venäläinen lastenkirjailija Alexandra Grigorieva<br />
<br />
klo 15.15 – 16.00<br />
Aarresaari-palkinnon jako<br />
IBBY Finland ry myöntää yhteistyössä Suomen kääntäjien ja tulkkien liiton kanssa Aarresaari-palkinnon korkeatasoiselle lasten- tai nuortenkirjan käännöstyölle.<br />
<br />
Tilaisuuden järjestävät IBBY Finland ry, Suomen tietokirjailijat ry, Cultura-säätiö, Entressen kirjasto ja Kirjastokaista. Päivän esitykset voit katsoa myös jälkikäteen. Ne julkaistaan katsottaviksi kukin omana videonaan Kirjastokaistalla.<br />
<br />
Lisätietoja:<br />
<a href="https://ibbyfinland.wordpress.com ">https://ibbyfinland.wordpress.com </a><br />
<a href="https://www.facebook.com/events/775202833318057">https://www.facebook.com/events/775202833318057</a></p>

LOCATION:
END:VEVENT
END:VCALENDAR