BEGIN:VCALENDAR
VERSION:2.0
PRODID:-//kirjastotfi/procal//NONSGML v1.0//EN
BEGIN:VEVENT
DTSTART:20200930T090000
DTEND:20200930T110000
SUMMARY:Tiedolla johtamisen valtakunnalliset työkalusprintit: Kulttuurin TEAviisari
DESCRIPTION:<p><span><span><span><span>Avi Kirjastotoimi järjestää valtakunnallisena yhteistyönä tiedolla johtamisen työkalusprintit, joissa tutustutaan harjoitusten kautta neljään eri tietolähteeseen. Koulutuksissa käydään läpi, millaisia tietoja lähteet sisältävät ja pohditaan, miten niitä voi hyödyntää kirjastojen toiminnan suunnittelussa ja seurannassa. </span></span></span></span></p>

<p><span><span><span><span>Koulutukset järjestetään Teamsilla, ja niihin lähetetään kutsut ilmoittautuneille. Ilmoittautuminen:</span></span></span></span></p>

<p><span><span><span><span><a href="https://www.lyyti.in/Tiedolla_johtamisen_tyokalusprintit_Kulttuurin_TEAviisari_2733"><span>https://www.lyyti.in/Tiedolla_johtamisen_tyokalusprintit_Kulttuurin_TEAviisari_2733</span></a></span></span></span></span></p>

<p><span><span><span><span>Ilmoittautuminen päättyy kolme päivää ennen koulutusta.</span></span></span></span></p>

LOCATION:
END:VEVENT
END:VCALENDAR