BEGIN:VCALENDAR
VERSION:2.0
PRODID:-//kirjastotfi/procal//NONSGML v1.0//EN
BEGIN:VEVENT
DTSTART:20200406T093000
DTEND:20200406T160000
SUMMARY:Selkokielen perusteet -koulutuspäivä 6.4.2020 klo 9.30-16
DESCRIPTION:<p><span><span><strong><span><span>Selkokielen perusteet -koulutuspäivä 6.4.2020 klo 9.30-16</span></span></strong></span></span></p>

<p><span><span><span><span>Paikka: Lapuan kaupunginkirjasto, Kansalaisopiston luentoluokka</span></span></span></span></p>

<p>&nbsp;</p>

<p><span><span><span><span><span><span>Innostava koulutuspäivä selkokielen ja selkotekstien parissa. Kerrataan selkokielellä kirjoittamisen ohjeita, mutta pääpaino on tekstiharjoituksissa. Harjoitukset liittyvät kirjaston esitteisiin ja verkkotekstit, joista saat palautetta. Muista ottaa koulutuspäivään mukaan esitteitä, joita työstät juuri nyt sekä ota myös oma kone tai tablettilaite mukaan. Sinun ei tarvitse olla selkokielen osaaja tai edes harjoittelija, vaan kiinnostus ja kokeilunhalu riittävät.</span></span></span></span></span></span></p>

<p>&nbsp;</p>

<p><span><span><strong><span><span>Ilmoittautuminen viimeistään ti&nbsp;31.3.2020</span></span></strong><span><span>: </span></span><a href="https://webropol.com/ep/selkokieli"><span><span>https://webropol.com/ep/selkokieli</span></span></a></span></span></p>

<p>&nbsp;</p>

<p><span><span><span><span>Koulutus on alueelliseen kehittämistehtävään kuuluvaa täydennyskoulutusta. Koulutus on osallistujille maksuton, mutta osallistujat vastaavat itse matkustus- ja ruokailukustannuksistaan. </span></span></span></span></p>

<p>&nbsp;</p>

<p><span><span><strong><span><span>Tervetuloa! </span></span></strong></span></span></p>

LOCATION:Lapuan kaupunginkirjasto, Kansalaisopiston luentoluokka
END:VEVENT
END:VCALENDAR