BEGIN:VCALENDAR
VERSION:2.0
PRODID:-//kirjastotfi/procal//NONSGML v1.0//EN
BEGIN:VEVENT
DTSTART:20200310T130000
DTEND:20200310T150000
SUMMARY:Henkilökunnan kielikoulutukset / Personalens språkkurser 10.3.2020 saksa)
DESCRIPTION:<p><strong>HENKILÖKUNNAN KIELIKOULUTUKSET</strong></p>

<p>&nbsp;</p>

<p>Vahvista puhetaitojasi ja kysy samalla kaikki ne mieltäsi askarruttavat kysymykset kirjastoalan englannin, saksan ja ranskan kielen sanastosta. Harjoittelemme mm. käytännön lausumisohjeita ja käymme läpi kirjaston normaaleja asiakaspalvelutilanteita sekä harjoittelemme tarvittavaa kirjastosanastoa arkitilanteisiin. Koulutus on alueelliseen kehittämistehtävään kuuluvaa täydennyskoulutusta. Koulutus on osallistujille maksuton.</p>

<p>&nbsp;</p>

<p>VERKKOKURSSIT</p>

<p>&nbsp;</p>

<p><strong>Englanti: </strong></p>

<p>ke 25.3.2020 klo 12-13</p>

<p>ke 22.4.2020 klo 12-13</p>

<p>ti 19.5.2020 klo 12-13</p>

<p>&nbsp;</p>

<p><strong>Saksa:</strong></p>

<p>ti 10.3.2020 klo 13-15</p>

<p>&nbsp;</p>

<p><strong>Ranska:</strong></p>

<p>ti 21.4.2020 klo 12-15</p>

<p>&nbsp;</p>

<p><strong>Ilmoittautuminen</strong>:</p>

<p><a href="https://webropol.com/ep/ks">https://webropol.com/ep/ks</a></p>

<p>&nbsp;</p>

<p><strong>TERVETULOA</strong></p>

<p>&nbsp;</p>

<p><strong>PERSONALENS SPRÅKKURSER</strong></p>

<p>&nbsp;</p>

<p>Dina språkfärdigheter stärks och&nbsp; samtidigt har du chansen att ställa alla dina frågor om engelskt, tyskt och franskt ordförråd i biblioteksomgivningen. Vi övar bl.a. praktiska instruktioner för uttal&nbsp; och vi går igenom bibliotekets normala kundbetjäningssituationer och övar på biblioteksordförrådet som behövs i de vardagliga situationerna. Utbildningen är kompletterande skolning för bibliotekets personal och hör till den regionala utvecklingsuppgiften. Utbildningen är gratis för deltagarna.</p>

<p>&nbsp;</p>

<p>NÄTKURSER</p>

<p>&nbsp;</p>

<p><strong>Engelska: </strong></p>

<p>ons 25.3.2020 kl. 12-13</p>

<p>ons 22.4.2020 kl. 12-13</p>

<p>ti 19.5.2020 kl. 12-13</p>

<p>&nbsp;</p>

<p><strong>Tyska:</strong></p>

<p>ti 10.3.2020 kl. 13-15</p>

<p>&nbsp;</p>

<p><strong>Franska:</strong></p>

<p>ti 21.4.2020 kl. 12-15</p>

<p>&nbsp;</p>

<p><strong>Anmälning</strong>: <a href="https://webropol.com/ep/ks">https://webropol.com/ep/ks</a></p>

<p>&nbsp;</p>

<p><strong>VÄLKOMMEN</strong></p>

LOCATION:Online
END:VEVENT
END:VCALENDAR