BEGIN:VCALENDAR
VERSION:2.0
PRODID:-//kirjastotfi/procal//NONSGML v1.0//EN
BEGIN:VEVENT
DTSTART:20190920T100000
DTEND:20190920T111500
SUMMARY:Missä mennään -webinaari 20.9.2019
DESCRIPTION:<p>Kansalliskirjasto järjestää perjantaina 20.9.2019 klo 10.00 - 11.15 Missä mennään -webinaarin.<br />
Webinaarissa kaikilla kiinnostuneilla on mahdollisuus kuulla Kansalliskirjaston palveluiden ja hankkeiden ajankohtaisista asioista.</p>

<p>Tällä kertaa kuullaan mm. FinELibin lehtineuvotteluista, Finnan käyttäjätutkimuksen tuloksista sekä kysytään mikä on Annif. Lisäksi ajankohtaista YSAsta Ysoon siirtymisestä sekä Kohan käyttöönottojen tilanteesta.</p>

<p>Webinaarin aikataulu löytyy täältä: https://www.kiwi.fi/pages/viewpage.action?pageId=119013864<br />
Huomaathan, että ilmoitetut kellonajat ovat arvioita.</p>

<p>Webinaariin tulee ilmoittautua etukäteen ke 18.9. mennessä: https://www.lyyti.in/missa_mennaan_20092019<br />
Etäyhteysosoite lähetetään osallistujille sähköpostitse torstaina 19.9.</p>

<p>Webinaari tallennetaan. Esitystiedostot sekä linkki tallenteeseen päivitetään tilaisuuden jälkeen yllä mainitulle ohjelmasivulle. Edellisten webinaarien esitykset löytyvät myös samasta wikistä.</p>

<p>Tervetuloa!</p>

<p>&nbsp;</p>

LOCATION:
END:VEVENT
END:VCALENDAR